BEGIN:VCALENDAR
VERSION:2.0
PRODID:-//Blog des Japan-Zentrums - ECPv6.15.20//NONSGML v1.0//EN
CALSCALE:GREGORIAN
METHOD:PUBLISH
X-WR-CALNAME:Blog des Japan-Zentrums
X-ORIGINAL-URL:https://www.blog.japan.uni-muenchen.de
X-WR-CALDESC:Veranstaltungen für Blog des Japan-Zentrums
REFRESH-INTERVAL;VALUE=DURATION:PT1H
X-Robots-Tag:noindex
X-PUBLISHED-TTL:PT1H
BEGIN:VTIMEZONE
TZID:Europe/Berlin
BEGIN:DAYLIGHT
TZOFFSETFROM:+0100
TZOFFSETTO:+0200
TZNAME:CEST
DTSTART:20200329T010000
END:DAYLIGHT
BEGIN:STANDARD
TZOFFSETFROM:+0200
TZOFFSETTO:+0100
TZNAME:CET
DTSTART:20201025T010000
END:STANDARD
BEGIN:DAYLIGHT
TZOFFSETFROM:+0100
TZOFFSETTO:+0200
TZNAME:CEST
DTSTART:20210328T010000
END:DAYLIGHT
BEGIN:STANDARD
TZOFFSETFROM:+0200
TZOFFSETTO:+0100
TZNAME:CET
DTSTART:20211031T010000
END:STANDARD
BEGIN:DAYLIGHT
TZOFFSETFROM:+0100
TZOFFSETTO:+0200
TZNAME:CEST
DTSTART:20220327T010000
END:DAYLIGHT
BEGIN:STANDARD
TZOFFSETFROM:+0200
TZOFFSETTO:+0100
TZNAME:CET
DTSTART:20221030T010000
END:STANDARD
END:VTIMEZONE
BEGIN:VEVENT
DTSTART;TZID=Europe/Berlin:20210614T140000
DTEND;TZID=Europe/Berlin:20210614T150000
DTSTAMP:20260425T212246
CREATED:20210607T122000Z
LAST-MODIFIED:20210607T122259Z
UID:257-1623679200-1623682800@www.blog.japan.uni-muenchen.de
SUMMARY:Vortrag am 14. Juni 2021\, 14 Uhr CET: „The Question of Immigrant Belonging in an Ethnonationalist Japan" (Gracia Liu-Farrer)
DESCRIPTION:Japan identifies itself as a nation whose nationhood is founded on the ideology of a common descent (Befu 2001). Japan did not have such a unified ethno-based self-understanding before the modernizing movement known as the Meiji Restoration (1868). Rather\, the Tokugawa regime’s “rule by status”—a practice that segregates the ruled by groups—created segmented cultural traditions and practices. Such an ethnonationalist identity was also put aside during the period of imperial expansion. In the aftermath of World War Two\, facing the collapse of empire and as a way to cope with the defeat\, Japan redefined itself as an ethno-national society\, categorizing the millions of imperial subjects from its former colonies as “foreigners”. This ethnonationalism\, popularized and institutionalized in the decades thereafter\, is a major reason for Japan’s reluctance toward immigration\, despite labor shortages brought by the demographic transformation into an ageing society. This ethno-nationalist identity is also at the root of Japan’s many institutional and social dilemmas in dealing with immigrants.\nDespite the lack of effective immigration policy\, since the 1980s\, millions of immigrants have entered and settled in Japan. Given such an institutional and cultural context\, how do these immigrants understand their own positions in this society and become attached? This presentation draws on immigrants’ narratives of belonging to understand how\, in a country that rejects the notion of immigration and adheres to an ethnonationalist identity\, immigrants find their sense of belonging\, define home\, and construct their relationships with Japanese society. It explores how immigrants’ cultural backgrounds\, migration experiences\, socioeconomic circumstances\, and social relationships as well as master narratives of nationhood and concepts of personhood affect people’s conception of home and belonging\, perceived relationships with Japan\, and future mobility intentions. These findings help us grasp the social and psychological mechanisms of people on the move and understand the cultural repertoires from which they draw to interpret their situations. Immigrants’ diverse narratives of belonging also highlight the dilemma of Japan as an ethnonationalist immigrant society. \nGracia Liu-Farrer (Ph.D. Sociology\, University of Chicago)\, is Professor at the Graduate School of Asia-Pacific Studies\, and Director of Institute of Asian Migration at Waseda University\, Japan. Her research examines immigrants’ economic\, social and political practices in Japan\, and the global mobility of students and professional migrants. She is the author of books Labor Migration from China to Japan: International Students\, Transnational Migrants (Routledge\, 2011)\, Handbook of Asian Migrations (co-edited with Brenda Yeoh\, Routledge\, 2018)\, and Immigrant Japan: Mobility and Belonging in an Ethno-nationalist Society (Cornell University Press\, 2020). \nMonday\, 2pm-3pm (CEST)\, 9pm-10pm (JST)\, 8am-9am (EDT) \nThe lecture will be conducted via Zoom. You are kindly requested to register with Zoom in advance. \nJoin Zoom Meeting\nhttps://lmu-munich.zoom.us/j/92309246995?pwd=S0JXVXQrNS9ZR3dxdmFWNE5CZDVpdz09 \nMeeting ID: 923 0924 6995\nPasscode: 356365
URL:https://www.blog.japan.uni-muenchen.de/event/vortrag-am-17-juni-2021-14-uhr-cet-the-question-of-immigrant-belonging-in-an-ethnonationalist-japan-gracia-liu-farrer/
END:VEVENT
END:VCALENDAR