BEGIN:VCALENDAR
VERSION:2.0
PRODID:-//Blog des Japan-Zentrums - ECPv6.15.20//NONSGML v1.0//EN
CALSCALE:GREGORIAN
METHOD:PUBLISH
X-WR-CALNAME:Blog des Japan-Zentrums
X-ORIGINAL-URL:https://www.blog.japan.uni-muenchen.de
X-WR-CALDESC:Veranstaltungen für Blog des Japan-Zentrums
REFRESH-INTERVAL;VALUE=DURATION:PT1H
X-Robots-Tag:noindex
X-PUBLISHED-TTL:PT1H
BEGIN:VTIMEZONE
TZID:Europe/Berlin
BEGIN:DAYLIGHT
TZOFFSETFROM:+0100
TZOFFSETTO:+0200
TZNAME:CEST
DTSTART:20200329T010000
END:DAYLIGHT
BEGIN:STANDARD
TZOFFSETFROM:+0200
TZOFFSETTO:+0100
TZNAME:CET
DTSTART:20201025T010000
END:STANDARD
BEGIN:DAYLIGHT
TZOFFSETFROM:+0100
TZOFFSETTO:+0200
TZNAME:CEST
DTSTART:20210328T010000
END:DAYLIGHT
BEGIN:STANDARD
TZOFFSETFROM:+0200
TZOFFSETTO:+0100
TZNAME:CET
DTSTART:20211031T010000
END:STANDARD
BEGIN:DAYLIGHT
TZOFFSETFROM:+0100
TZOFFSETTO:+0200
TZNAME:CEST
DTSTART:20220327T010000
END:DAYLIGHT
BEGIN:STANDARD
TZOFFSETFROM:+0200
TZOFFSETTO:+0100
TZNAME:CET
DTSTART:20221030T010000
END:STANDARD
END:VTIMEZONE
BEGIN:VEVENT
DTSTART;TZID=Europe/Berlin:20211108T110000
DTEND;TZID=Europe/Berlin:20211108T120000
DTSTAMP:20260426T042027
CREATED:20211027T114921Z
LAST-MODIFIED:20211027T114921Z
UID:629-1636369200-1636372800@www.blog.japan.uni-muenchen.de
SUMMARY:Vortrag am 08. November 2021\, 11.00 Uhr: "Reimagining International Students’ Social Engagement and Support in Japan During the Pandemic: The Role of Civil Society Groups" (Polina Ivanova)
DESCRIPTION:The lecture will focus on the impact of the ongoing pandemic on international students in Japan and solutions offered by local civil society groups. As universities and governments are generally considered responsible for providing for international students’ wellbeing\, there has been insufficient attention to alternative support providers\, such as non-profit organisations (NPOs)\, peer support groups\, university clubs and circles\, international friendship associations and other non-profit entities\, collectively called international student support organisations (ISSOs). This study uses interviews with international students enrolled at Japanese universities (staying inside the country and stranded abroad during the pandemic)\, volunteers and staff at ISSOs\, and observation of online and in-person events for international students to examine the civil society response to challenges faced by international students during the COVID-19 pandemic. The lecture discusses common issues experienced by international students such as perceived insufficiency of university support\, inability to travel to the study destination\, instances of xenophobia\, loneliness and psychological distress. The ISSOs responded to those challenges by adapting their support mechanisms and raising public awareness of the problems faced by international students and migrants in general. The lecture will also show the fluidity of the immigration status of some international students resulting in their precarity and highlight how recent developments related to COVID vaccination rollout are affecting ISSOs’ activities. \nPolina Ivanova is a visiting researcher at the Institute of International Relations and Area Studies of Ritsumeikan University (Kyoto\, Japan) and a lecturer at Kyoto University of Foreign Studies. She holds a Ph.D. in International Relations from Ritsumeikan University. Her research interests lie in the areas of civil society\, migration\, human security\, and international education. Her doctoral research examined thirty civil society organisations supporting international students in the Kansai area of Japan and their contribution to social capital formation in local communities. In addition\, she participated in three collaborative projects in Japan\, Australia\, and the United States. Based on this work\, Polina published six peer-reviewed articles and presented her findings at several academic conferences and workshops in Japan\, the United Kingdom\, Mexico\, and the United States. Her recent projects focus on volunteer organisations involved with international students in Australia\, international students’ loneliness in the United States and Japan\, and civil society response to the pandemic in Japan\, Australia\, and the United States in the context of international student support. \nThe lecture will be conducted via Zoom. You are kindly requested to register with Zoom in advance: \nhttps://lmu-munich.zoom.us/meeting/register/tJMtdemorD4uG9FULsac8sx7PWvOD0QYjmfd
URL:https://www.blog.japan.uni-muenchen.de/event/vortrag-am-08-november-2021-11-00-uhr-reimagining-international-students-social-engagement-and-support-in-japan-during-the-pandemic-the-role-of-civil-society-groups-polina-ivanova/
LOCATION:Zoom
CATEGORIES:Studium,Vortrag
ATTACH;FMTTYPE=image/jpeg:https://www.blog.japan.uni-muenchen.de/wp-content/uploads/2021/10/polina-ivanova-photo-e1635837081456.jpg
END:VEVENT
END:VCALENDAR