BEGIN:VCALENDAR
VERSION:2.0
PRODID:-//Blog des Japan-Zentrums - ECPv6.15.20//NONSGML v1.0//EN
CALSCALE:GREGORIAN
METHOD:PUBLISH
X-WR-CALNAME:Blog des Japan-Zentrums
X-ORIGINAL-URL:https://www.blog.japan.uni-muenchen.de
X-WR-CALDESC:Veranstaltungen für Blog des Japan-Zentrums
REFRESH-INTERVAL;VALUE=DURATION:PT1H
X-Robots-Tag:noindex
X-PUBLISHED-TTL:PT1H
BEGIN:VTIMEZONE
TZID:Europe/Berlin
BEGIN:DAYLIGHT
TZOFFSETFROM:+0100
TZOFFSETTO:+0200
TZNAME:CEST
DTSTART:20200329T010000
END:DAYLIGHT
BEGIN:STANDARD
TZOFFSETFROM:+0200
TZOFFSETTO:+0100
TZNAME:CET
DTSTART:20201025T010000
END:STANDARD
BEGIN:DAYLIGHT
TZOFFSETFROM:+0100
TZOFFSETTO:+0200
TZNAME:CEST
DTSTART:20210328T010000
END:DAYLIGHT
BEGIN:STANDARD
TZOFFSETFROM:+0200
TZOFFSETTO:+0100
TZNAME:CET
DTSTART:20211031T010000
END:STANDARD
BEGIN:DAYLIGHT
TZOFFSETFROM:+0100
TZOFFSETTO:+0200
TZNAME:CEST
DTSTART:20220327T010000
END:DAYLIGHT
BEGIN:STANDARD
TZOFFSETFROM:+0200
TZOFFSETTO:+0100
TZNAME:CET
DTSTART:20221030T010000
END:STANDARD
END:VTIMEZONE
BEGIN:VEVENT
DTSTART;TZID=Europe/Berlin:20211118T123000
DTEND;TZID=Europe/Berlin:20211118T140000
DTSTAMP:20260423T185519
CREATED:20211108T105438Z
LAST-MODIFIED:20211116T141517Z
UID:641-1637238600-1637244000@www.blog.japan.uni-muenchen.de
SUMMARY:Vortrag: "Kabukichō – Tōkyō: Anthropogical perspectives" (Nathaniel M. Smith)
DESCRIPTION:As Tokyo readied itself to host the 2020 Summer Olympic Games\, its most infamous postwar red-light district\, Kabukicho\, was surprisingly proactive in welcoming a growing number of international visitors. Boasting new large-scale hotels\, capsule hotels created for salarymen now reinvented as low-cost options for tourists\, and multi-language menus ubiquitous at local restaurants\, enthusiastic efforts by officials\, local entrepreneurs\, and others saw a rebranded Kabukicho approach new heights. COVID-19 however\, brought down a blunt economic hammer that led to the disappearance of tourists\, stigmatization of nightlife-driven outbreak clusters\, and the delay of the Olympics. Though the virus imperiled both life and livelihood\, a diverse\, dynamic\, and dangerous Kabukicho is not a recent development. The nightlife-oriented area has long been the home of multiple communities marginalized in postwar Japan\, including former colonial subjects cum ethnic minorities\, new migrants\, the political and artistic fringe\, organized crime groups\, and precarious workers in the sexual services industry. How might the interplay of multiple marginalities found in a neighborhood like Kabukicho demonstrate potentials and limitations for life in an increasingly diverse but struggling Japan? To analyze what this node of Tokyo’s megacity portends for social change in Japan\, this talk will extend work in the anthropology\, politics\, and history of urban Japan to examine how ‘native and newcomer’ coexist in ‘neighborhood’ Kabukicho of the present moment\, assess creative responses to the tumult of 2020\, and consider how the neighborhood has navigated a host of local and global calamities in sometimes surprisVoing ways. \nNathaniel M. Smith is an anthropologist and Associate Professor in the College of International Relations at Ritsumeikan University (Kyoto\, Japan). He holds a PhD in anthropology and MA in East Asian Studies from Yale University as well as an MA in International Relations from Waseda University. Previously\, he has held faculty and research appointments at the University of Arizona\, UC Santa Barbara\, Waseda University\, and University of Tokyo. His research interests are broadly drawn around two topics. First\, since 2005 he has pursued research on far-right political activism in Japan. Next\, under the auspices of a Japan Foundation fellowship from 2019-2020\, he began an urban studies project centered on the post-WWII history and contemporary redevelopment of entertainment districts in Japan\, primarily centered on Tokyo’s Kabukicho. \nZoom-Meeting beitreten\nhttps://lmu-munich.zoom.us/j/96712939623?pwd=UXZKaytEamMvMUE2RlQ0Nkk1Sm9UZz09 \nMeeting-ID: 967 1293 9623\nKenncode: 731281
URL:https://www.blog.japan.uni-muenchen.de/event/vortrag-am-18-11-2021-12-30-uhr-kabukicho-tokyo-anthropogical-perspectives-nathaniel-m-smith/
LOCATION:Zoom
CATEGORIES:Forschungskolloquium,Vortrag
ATTACH;FMTTYPE=image/jpeg:https://www.blog.japan.uni-muenchen.de/wp-content/uploads/2021/11/smith.jpg
END:VEVENT
END:VCALENDAR