BEGIN:VCALENDAR
VERSION:2.0
PRODID:-//Blog des Japan-Zentrums - ECPv6.15.20//NONSGML v1.0//EN
CALSCALE:GREGORIAN
METHOD:PUBLISH
X-WR-CALNAME:Blog des Japan-Zentrums
X-ORIGINAL-URL:https://www.blog.japan.uni-muenchen.de
X-WR-CALDESC:Veranstaltungen für Blog des Japan-Zentrums
REFRESH-INTERVAL;VALUE=DURATION:PT1H
X-Robots-Tag:noindex
X-PUBLISHED-TTL:PT1H
BEGIN:VTIMEZONE
TZID:Europe/Berlin
BEGIN:DAYLIGHT
TZOFFSETFROM:+0100
TZOFFSETTO:+0200
TZNAME:CEST
DTSTART:20200329T010000
END:DAYLIGHT
BEGIN:STANDARD
TZOFFSETFROM:+0200
TZOFFSETTO:+0100
TZNAME:CET
DTSTART:20201025T010000
END:STANDARD
BEGIN:DAYLIGHT
TZOFFSETFROM:+0100
TZOFFSETTO:+0200
TZNAME:CEST
DTSTART:20210328T010000
END:DAYLIGHT
BEGIN:STANDARD
TZOFFSETFROM:+0200
TZOFFSETTO:+0100
TZNAME:CET
DTSTART:20211031T010000
END:STANDARD
BEGIN:DAYLIGHT
TZOFFSETFROM:+0100
TZOFFSETTO:+0200
TZNAME:CEST
DTSTART:20220327T010000
END:DAYLIGHT
BEGIN:STANDARD
TZOFFSETFROM:+0200
TZOFFSETTO:+0100
TZNAME:CET
DTSTART:20221030T010000
END:STANDARD
END:VTIMEZONE
BEGIN:VEVENT
DTSTART;TZID=Europe/Berlin:20211202T123000
DTEND;TZID=Europe/Berlin:20211202T140000
DTSTAMP:20260425T202456
CREATED:20211116T142427Z
LAST-MODIFIED:20211122T122510Z
UID:668-1638448200-1638453600@www.blog.japan.uni-muenchen.de
SUMMARY:Vortrag: "Fantastical spaces in contemporary Japanese literature: From Murakami Haruki to Ogawa Yōko" (Mina Qiao)
DESCRIPTION:Fantastical spaces\, they are ubiquitous in contemporary Japanese literature\, hidden\, secluded\, guarded\, and with secretive and limited access\, altogether reinforcing then ethereal and labyrinthe quality. A fantastical space resembles and yet varies from the everyday world we experience. This setting resonates with fantasy being the unseen culture\, but also emphasizes on the boundaries and hence a contrast of two opposing dimensions. Once accessed\, the fantastical space both resembles and deviates from the experience of the everyday world. They can be a den in Kanai Mieko’s “Usagi” (1972; “Rabbits”)\, a cave in Murakami Haruki’s Kishi danchō goroshi (2017; Killing Commendatore)\, an island in Ogawa in Yōko’s Hoteru airisu (1996; Hotel Iris)\, or a made-up town never exists in any map in Murakami Ryū’s Koin rokka beibizu (1980; Coin Locker Babies). \nIn each case\, the place is insular and isolated. In many works\, the fantastical space appears to be a distorted mirror image of the reality\, because fantasy is the characters’ unfiltered perception of a reality unmediated by rationality and consciousness. Plots in the fantastic mode develop as the characters cross the boundaries over to the other world\, seeking answers found in between fantasy and reality\, the unconscious and the conscious\, the spiritual and the physical\, the dead and the living\, and so on. \nFantastical spaces are landscapes of dreams and memories\, manifestations of bodily sensations and mental states\, and paths into the deepest layers of self. They may act as manifestations of characters’ psychological states as well as extensions of their embodied perceptions. \nMina Qiao currently teaches Japanese literature at Tokyo University of Foreign Studies. She is the author of Women in the Maze: Space and Gender in Kirino Natsuo’s Writings (2019). Her research interests include space\, body\, contemporary women’s writings\, and popular culture. \nZoom-Meeting beitreten\nhttps://lmu-munich.zoom.us/j/95146977115?pwd=aXVwS3ZtTUs5ZTJ2VnFyY205VkNIdz09 \nMeeting-ID: 951 4697 7115\nKenncode: 09695
URL:https://www.blog.japan.uni-muenchen.de/event/vortrag-fantastical-spaces-in-contemporary-japanese-literature-from-murakami-haruki-to-ogawa-yoko-mina-qiao/
LOCATION:Zoom
CATEGORIES:Forschungskolloquium,Vortrag
ATTACH;FMTTYPE=image/jpeg:https://www.blog.japan.uni-muenchen.de/wp-content/uploads/2021/02/IMG_2369-scaled-e1637583899635.jpg
END:VEVENT
END:VCALENDAR