BEGIN:VCALENDAR
VERSION:2.0
PRODID:-//Blog des Japan-Zentrums - ECPv6.15.20//NONSGML v1.0//EN
CALSCALE:GREGORIAN
METHOD:PUBLISH
X-WR-CALNAME:Blog des Japan-Zentrums
X-ORIGINAL-URL:https://www.blog.japan.uni-muenchen.de
X-WR-CALDESC:Veranstaltungen für Blog des Japan-Zentrums
REFRESH-INTERVAL;VALUE=DURATION:PT1H
X-Robots-Tag:noindex
X-PUBLISHED-TTL:PT1H
BEGIN:VTIMEZONE
TZID:Europe/Berlin
BEGIN:DAYLIGHT
TZOFFSETFROM:+0100
TZOFFSETTO:+0200
TZNAME:CEST
DTSTART:20210328T010000
END:DAYLIGHT
BEGIN:STANDARD
TZOFFSETFROM:+0200
TZOFFSETTO:+0100
TZNAME:CET
DTSTART:20211031T010000
END:STANDARD
BEGIN:DAYLIGHT
TZOFFSETFROM:+0100
TZOFFSETTO:+0200
TZNAME:CEST
DTSTART:20220327T010000
END:DAYLIGHT
BEGIN:STANDARD
TZOFFSETFROM:+0200
TZOFFSETTO:+0100
TZNAME:CET
DTSTART:20221030T010000
END:STANDARD
BEGIN:DAYLIGHT
TZOFFSETFROM:+0100
TZOFFSETTO:+0200
TZNAME:CEST
DTSTART:20230326T010000
END:DAYLIGHT
BEGIN:STANDARD
TZOFFSETFROM:+0200
TZOFFSETTO:+0100
TZNAME:CET
DTSTART:20231029T010000
END:STANDARD
END:VTIMEZONE
BEGIN:VEVENT
DTSTART;TZID=Europe/Berlin:20220203T123000
DTEND;TZID=Europe/Berlin:20220203T140000
DTSTAMP:20260423T170024
CREATED:20220113T084101Z
LAST-MODIFIED:20220118T122523Z
UID:791-1643891400-1643896800@www.blog.japan.uni-muenchen.de
SUMMARY:Vortrag: "Gender\, aging\, and family in Kore-eda Hirokazu’s Kiki Kirin Films" (Barbara E. Thornbury)
DESCRIPTION:A leading figure in world cinema\, director Kore-eda Hirokazu (b. 1962) is particularly well known for his fine-grained portrayals of families. Actress Kiki Kirin (1943-2018) played significant roles in six of his family-focused films—beginning with Still Walking (Aruite mo aruite mo\, 2008) and ending ten years later with Shoplifters (Manbiki kazoku\, 2018). Tapping into widespread anxieties in Japan that stem from the declining birthrate and the rapidly aging population\, Kore-eda’s Kiki Kirin films powerfully question the continued viability of the family unit and\, by extension\, the ongoing strength and stability of society overall. On the surface\, the women and men of Kiki’s generation looked strong: generally speaking\, they married and stayed married\, raised well-educated children\, and helped build postwar Japan into the second largest (now\, third largest) economy in the world. In Kore-eda’s depictions\, however\, the ideologically sanctioned\, 20th-century nuclear family was deeply flawed and unsustainable. The focus of this talk is on how those flaws and that unsustainability are expressed in Kore-eda’s Kiki Kirin films. \nBarbara E. Thornbury is Professor of Japanese in the Department of Asian and Middle Eastern Languages and Studies at Temple University (Philadelphia\, USA). She is also director of Temple’s interdisciplinary Gender\, Sexuality\, and Women’s Studies Program. Her recent publications include Mapping Tokyo in Fiction and Film (Palgrave Macmillan\, 2020) and “The Thirty-Something ‘Tokyo Daughters’ of Kawakami Hiromi’s Strange Weather in Tokyo\, Shibasaki Tomoka’s Spring Garden\, and Murata Sayaka’s Convenience Store Woman” (U.S.-Japan Women’s Journal\, 2020). \nZoom-Meeting beitreten\nhttps://lmu-munich.zoom.us/j/93501019638?pwd=czVpOEltb0g4RjlEV2F1K3Z6ekJaUT09 \nMeeting-ID: 935 0101 9638\nKenncode: 365725
URL:https://www.blog.japan.uni-muenchen.de/event/vortrag-gender-aging-and-family-in-kore-eda-hirokazus-kiki-kirin-films-barbara-e-thornbury/
LOCATION:Zoom
CATEGORIES:Forschungskolloquium,Studium,Vortrag
END:VEVENT
END:VCALENDAR