BEGIN:VCALENDAR
VERSION:2.0
PRODID:-//Blog des Japan-Zentrums - ECPv6.15.20//NONSGML v1.0//EN
CALSCALE:GREGORIAN
METHOD:PUBLISH
X-WR-CALNAME:Blog des Japan-Zentrums
X-ORIGINAL-URL:https://www.blog.japan.uni-muenchen.de
X-WR-CALDESC:Veranstaltungen für Blog des Japan-Zentrums
REFRESH-INTERVAL;VALUE=DURATION:PT1H
X-Robots-Tag:noindex
X-PUBLISHED-TTL:PT1H
BEGIN:VTIMEZONE
TZID:Europe/Berlin
BEGIN:DAYLIGHT
TZOFFSETFROM:+0100
TZOFFSETTO:+0200
TZNAME:CEST
DTSTART:20210328T010000
END:DAYLIGHT
BEGIN:STANDARD
TZOFFSETFROM:+0200
TZOFFSETTO:+0100
TZNAME:CET
DTSTART:20211031T010000
END:STANDARD
BEGIN:DAYLIGHT
TZOFFSETFROM:+0100
TZOFFSETTO:+0200
TZNAME:CEST
DTSTART:20220327T010000
END:DAYLIGHT
BEGIN:STANDARD
TZOFFSETFROM:+0200
TZOFFSETTO:+0100
TZNAME:CET
DTSTART:20221030T010000
END:STANDARD
BEGIN:DAYLIGHT
TZOFFSETFROM:+0100
TZOFFSETTO:+0200
TZNAME:CEST
DTSTART:20230326T010000
END:DAYLIGHT
BEGIN:STANDARD
TZOFFSETFROM:+0200
TZOFFSETTO:+0100
TZNAME:CET
DTSTART:20231029T010000
END:STANDARD
END:VTIMEZONE
BEGIN:VEVENT
DTSTART;TZID=Europe/Berlin:20220504T180000
DTEND;TZID=Europe/Berlin:20220504T200000
DTSTAMP:20260426T023231
CREATED:20220425T125739Z
LAST-MODIFIED:20220425T125739Z
UID:970-1651687200-1651694400@www.blog.japan.uni-muenchen.de
SUMMARY:Vortrag am 04. Mai 2022\, 18 Uhr CET: „Raum\, Norm\, Individuum – Dystopische Raumkonzepte bei Murata Sayaka“ (Ronald Saladin)
DESCRIPTION:In Ihrer Kurzgeschichte Satsujin Shussan [Mordgeburt] (2014) beleuchtet Murata Sayaka wie Gesellschaft und Staat mit Themen wie Liebe und Sexualität in Verbindung stehen. Sie wählt diese Themen jedoch lediglich als Rahmen\, um das Spannungsgefüge zwischen Individuum und Gesellschaft anhand von Sexualität und Fortpflanzung zu thematisieren und zu fokussieren. In diesem Vortrag werde ich die Kurzgeschichte Satsujin Shussan [Mordgeburt] mit einem Fokus auf Raumkonstruktionen analysieren. Dabei werde ich sowohl unter Bezug auf Foucaults Konzept der Heterotopie\, Lotmanns Semiosphäre\, als auch narratologisch untersuchen\, inwiefern Murata Raumkonstruktionen nutzt\, um danach zu fragen\, wo Privates endet und öffentlicher Einfluss auf intimste Bereiche des Lebens beginnt. Dabei werde ich herausstellen\, wie Murata mittels dystopischer Parallelorte Karikaturen des japanischen Alltags und seiner Normen formuliert\, anhand derer sie die Frage aufstellt\, inwiefern „Normales“ unumstößlich als „normal“ angesehen werden kann und welche Konsequenzen sich für ein Individuum aus der Gegebenheit gesellschaftlicher Konventionen ergeben\, wenn diesen entsprochen oder nicht entsprochen wird. \nRonald Saladin ist Juniorprofessor für Japanologie an der Universität Trier. In Forschung und Lehre beschäftigt er sich mit japanischer Gegenwartsliteratur\, Medien und Populärkultur\, die er unter anderem aus Perspektive der Sozialwissenschaft\, Gender Studies und Cultural Studies untersucht. Seine Dissertation ist 2019 unter dem Titel „Young Men and Masculinities in Japanese Media – (Un)Conscious Hegemony” bei Palgrave Macmillan erschienen. Derzeit forscht er zu Raumkonstruktionen in der japanischen Gegenwartsliteratur. \nDer Vortrag findet in Präsenz statt. Ort: Japan-Zentrum der LMU\, Seminargebäude am Englischen Garten\, Oettingenstr. 67\, 80538 München\, Raum 151 \nZugang nach den aktuellen LMU-Regeln zum Infektionsschutz (www.lmu.de).
URL:https://www.blog.japan.uni-muenchen.de/event/vortrag-am-04-mai-2022-18-uhr-cet-raum-norm-individuum-dystopische-raumkonzepte-bei-murata-sayaka-ronald-saladin/
CATEGORIES:Forschungskolloquium,Vortrag
ATTACH;FMTTYPE=image/jpeg:https://www.blog.japan.uni-muenchen.de/wp-content/uploads/2021/02/cropped-cropped-cropped-IMG_8214-scaled-2-e1613471268395.jpg
END:VEVENT
END:VCALENDAR