BEGIN:VCALENDAR
VERSION:2.0
PRODID:-//Blog des Japan-Zentrums - ECPv6.15.20//NONSGML v1.0//EN
CALSCALE:GREGORIAN
METHOD:PUBLISH
X-WR-CALNAME:Blog des Japan-Zentrums
X-ORIGINAL-URL:https://www.blog.japan.uni-muenchen.de
X-WR-CALDESC:Veranstaltungen für Blog des Japan-Zentrums
REFRESH-INTERVAL;VALUE=DURATION:PT1H
X-Robots-Tag:noindex
X-PUBLISHED-TTL:PT1H
BEGIN:VTIMEZONE
TZID:Europe/Berlin
BEGIN:DAYLIGHT
TZOFFSETFROM:+0100
TZOFFSETTO:+0200
TZNAME:CEST
DTSTART:20210328T010000
END:DAYLIGHT
BEGIN:STANDARD
TZOFFSETFROM:+0200
TZOFFSETTO:+0100
TZNAME:CET
DTSTART:20211031T010000
END:STANDARD
BEGIN:DAYLIGHT
TZOFFSETFROM:+0100
TZOFFSETTO:+0200
TZNAME:CEST
DTSTART:20220327T010000
END:DAYLIGHT
BEGIN:STANDARD
TZOFFSETFROM:+0200
TZOFFSETTO:+0100
TZNAME:CET
DTSTART:20221030T010000
END:STANDARD
BEGIN:DAYLIGHT
TZOFFSETFROM:+0100
TZOFFSETTO:+0200
TZNAME:CEST
DTSTART:20230326T010000
END:DAYLIGHT
BEGIN:STANDARD
TZOFFSETFROM:+0200
TZOFFSETTO:+0100
TZNAME:CET
DTSTART:20231029T010000
END:STANDARD
END:VTIMEZONE
BEGIN:VEVENT
DTSTART;TZID=Europe/Berlin:20220702T100000
DTEND;TZID=Europe/Berlin:20220702T113000
DTSTAMP:20260426T061846
CREATED:20220623T100233Z
LAST-MODIFIED:20220623T100314Z
UID:1099-1656756000-1656761400@www.blog.japan.uni-muenchen.de
SUMMARY:Sprachtreff Japanisch-Englisch mit Studierenden der Kwansei Gakuin University und Oxford University
DESCRIPTION:Herzliche Einladung an alle Studierenden zum Japanisch-Englischen Fun-Sprachtreff am Samstag\, den 2. Juli 2022\, von 10 Uhr bis 11.30 Uhr! \nAußerdem eingeladen sind Studierende der Kwansei Gakuin (Kobe) und der Oxford University. Wir werden zu verschiedenen Spaßthemen im Wechsel Japanisch und Englisch diskutieren. \nWir treffen uns online auf der Plattform Wonder (läuft am PC über die Browser Google Chrome\, Firefox und Microsoft Edge). \nAnmeldung bitte per Email bei: schrade@kwansei.ac.jp (Anna Schrade). Den Wonder-Link und das Passwort bekommen Sie dann zeitnah zugeschickt. \nOrganisiert wird der Sprachtreff von Anna Wiemann (LMU) und Anna Schrade (KGU).
URL:https://www.blog.japan.uni-muenchen.de/event/sprachtreff-japanisch-englisch-am-2-juli-2022-mit-studierenden-der-kwansei-gakuin-university-und-oxford-university/
LOCATION:Wonder
CATEGORIES:Sprachtreff,Studium
ATTACH;FMTTYPE=image/png:https://www.blog.japan.uni-muenchen.de/wp-content/uploads/2022/06/Sprachaustausch-20220702.png
END:VEVENT
END:VCALENDAR