BEGIN:VCALENDAR
VERSION:2.0
PRODID:-//Blog des Japan-Zentrums - ECPv6.15.20//NONSGML v1.0//EN
CALSCALE:GREGORIAN
METHOD:PUBLISH
X-WR-CALNAME:Blog des Japan-Zentrums
X-ORIGINAL-URL:https://www.blog.japan.uni-muenchen.de
X-WR-CALDESC:Veranstaltungen für Blog des Japan-Zentrums
REFRESH-INTERVAL;VALUE=DURATION:PT1H
X-Robots-Tag:noindex
X-PUBLISHED-TTL:PT1H
BEGIN:VTIMEZONE
TZID:Europe/Berlin
BEGIN:DAYLIGHT
TZOFFSETFROM:+0100
TZOFFSETTO:+0200
TZNAME:CEST
DTSTART:20210328T010000
END:DAYLIGHT
BEGIN:STANDARD
TZOFFSETFROM:+0200
TZOFFSETTO:+0100
TZNAME:CET
DTSTART:20211031T010000
END:STANDARD
BEGIN:DAYLIGHT
TZOFFSETFROM:+0100
TZOFFSETTO:+0200
TZNAME:CEST
DTSTART:20220327T010000
END:DAYLIGHT
BEGIN:STANDARD
TZOFFSETFROM:+0200
TZOFFSETTO:+0100
TZNAME:CET
DTSTART:20221030T010000
END:STANDARD
BEGIN:DAYLIGHT
TZOFFSETFROM:+0100
TZOFFSETTO:+0200
TZNAME:CEST
DTSTART:20230326T010000
END:DAYLIGHT
BEGIN:STANDARD
TZOFFSETFROM:+0200
TZOFFSETTO:+0100
TZNAME:CET
DTSTART:20231029T010000
END:STANDARD
END:VTIMEZONE
BEGIN:VEVENT
DTSTART;TZID=Europe/Berlin:20221017T180000
DTEND;TZID=Europe/Berlin:20221017T220000
DTSTAMP:20260426T053824
CREATED:20221006T093317Z
LAST-MODIFIED:20221006T093317Z
UID:1233-1666029600-1666044000@www.blog.japan.uni-muenchen.de
SUMMARY:Einstandstreffen am 17. Oktober 2022
DESCRIPTION:Liebe Studierende\,\nLiebe Dozierende\, \nNeues Jahr – neue Gesichter. Wir heißen alle aus dem 1. Semester herzlichst willkommen und wünschen Euch alles Gute für das kommende Semester. \nUm Euch untereinander kennen zu lernen und auch Kontakte zu den höheren Semestern\, Dozierenden und dem Lehrstuhl knüpfen zu können\, veranstalten wir für Euch eine Einstandsfeier. \nStattfinden wird die Feier am 17. Oktober ab 18 Uhr Oettingenstraße 67\, Raum 151. Wir haben Waffeln als Snacks und Glühwein bzw. Kinderpunsch\, sowie andere alkoholische und nicht-alkoholische Getränke im Angebot. \nAlle Studierenden und Dozierenden des Japan-Zentrums sind herzlich eingeladen! \nWir freuen uns auf Euch! \nEure Fachschaftsvertretung
URL:https://www.blog.japan.uni-muenchen.de/event/einstandstreffen-am-17-oktober-2022/
LOCATION:https://www.lmu.de/raumfinder/#/building/bw7070/map?room=707001151_
CATEGORIES:Feierlichkeiten,Studienanfänger*innen
ATTACH;FMTTYPE=image/png:https://www.blog.japan.uni-muenchen.de/wp-content/uploads/2021/12/22814531_1469566529764331_5436740579167016860_n-2.png
ORGANIZER;CN="Fachschaftsvertretung":MAILTO:japanologie@fs.lmu.de
END:VEVENT
END:VCALENDAR