BEGIN:VCALENDAR
VERSION:2.0
PRODID:-//Blog des Japan-Zentrums - ECPv6.15.20//NONSGML v1.0//EN
CALSCALE:GREGORIAN
METHOD:PUBLISH
X-WR-CALNAME:Blog des Japan-Zentrums
X-ORIGINAL-URL:https://www.blog.japan.uni-muenchen.de
X-WR-CALDESC:Veranstaltungen für Blog des Japan-Zentrums
REFRESH-INTERVAL;VALUE=DURATION:PT1H
X-Robots-Tag:noindex
X-PUBLISHED-TTL:PT1H
BEGIN:VTIMEZONE
TZID:Europe/Berlin
BEGIN:DAYLIGHT
TZOFFSETFROM:+0100
TZOFFSETTO:+0200
TZNAME:CEST
DTSTART:20220327T010000
END:DAYLIGHT
BEGIN:STANDARD
TZOFFSETFROM:+0200
TZOFFSETTO:+0100
TZNAME:CET
DTSTART:20221030T010000
END:STANDARD
BEGIN:DAYLIGHT
TZOFFSETFROM:+0100
TZOFFSETTO:+0200
TZNAME:CEST
DTSTART:20230326T010000
END:DAYLIGHT
BEGIN:STANDARD
TZOFFSETFROM:+0200
TZOFFSETTO:+0100
TZNAME:CET
DTSTART:20231029T010000
END:STANDARD
BEGIN:DAYLIGHT
TZOFFSETFROM:+0100
TZOFFSETTO:+0200
TZNAME:CEST
DTSTART:20240331T010000
END:DAYLIGHT
BEGIN:STANDARD
TZOFFSETFROM:+0200
TZOFFSETTO:+0100
TZNAME:CET
DTSTART:20241027T010000
END:STANDARD
END:VTIMEZONE
BEGIN:VEVENT
DTSTART;TZID=Europe/Berlin:20231207T180000
DTEND;TZID=Europe/Berlin:20231207T200000
DTSTAMP:20260426T045645
CREATED:20231106T122847Z
LAST-MODIFIED:20231130T135747Z
UID:1871-1701972000-1701979200@www.blog.japan.uni-muenchen.de
SUMMARY:Vortrag von Prof. Tatsuo Sugimoto: "Sportökonomie in Japan: Mikro- und Makroökonomische Perspektiven zur Strukturanalyse\, Maßnahmenentwicklung und Zukunftschancen"
DESCRIPTION:Die wirtschaftlichen Implikationen des Sports rücken derzeit in Japan verstärkt in den Fokus der Aufmerksamkeit. Gleichzeitig wird betont\, dass die Sportindustrie eine bedeutende Rolle im Wirtschaftswachstum des Landes spielt. \nDie wirtschaftlichen Auswirkungen des Sports sind weitreichend und vielschichtig. Um diese positiv zu beeinflussen\, ist es entscheidend\, die Struktur dieser Auswirkungen zu verstehen und darauf aufbauend gezielte Maßnahmen zu entwickeln. Die Organisation von Sportveranstaltungen wird beispielsweise als Instrument zur Anregung der Makroökonomie des Landes oder der gastgebenden Städte genutzt. Ein detailliertes Verständnis der wirtschaftlichen Auswirkungen dieser Organisation kann dazu beitragen\, diese Effekte zu maximieren. \nAuf der anderen Seite wird erwartet\, dass das Wachstum des Sportkonsums den Markt erweitert und gleichzeitig die finanzielle Belastung im Zusammenhang mit der Reduzierung von Gesundheitskosten verringert. Die Förderung des Sportkonsums ist sowohl aus mikro- als auch aus makroökonomischer Perspektive von Bedeutung. Insbesondere wird erwartet\, dass die aktive Teilnahme am Sport in einer modernen Gesellschaft\, in der die körperliche Aktivität abnimmt\, in der Zukunft als Schlüsselelement („Killercontent“) fungieren wird. Daher wird die Aktivierung dieser Teilnahme von großer Bedeutung sein. \nTatsuo Sugimoto wird als Gastforscher bis Ende März 2024 an der LMU bleiben. Seine Forschungsschwerpunkte liegen im Bereich Sportökonomie und Sportmarketing. Er ist seit 2011 Professor an der Fakultät für Wirtschaft an der Hosei Universität in Tokio\, Japan. \nDer Vortrag findet in Präsenz statt. Ort: Japan-Zentrum der LMU\, Seminargebäude am Englischen Garten\, Oettingenstr. 67\, 80538 München\, Raum 151.
URL:https://www.blog.japan.uni-muenchen.de/event/vortrag-von-prof-tatsuo-sugimoto-die-zukuenftigen-wirtschaftlichen-auswirkungen-des-sports-in-japan-mit-den-aspekten-von-makro-und-mikro/
LOCATION:https://www.lmu.de/raumfinder/#/building/bw7070/map?room=707001151_
END:VEVENT
END:VCALENDAR