BEGIN:VCALENDAR
VERSION:2.0
PRODID:-//Blog des Japan-Zentrums - ECPv6.15.20//NONSGML v1.0//EN
CALSCALE:GREGORIAN
METHOD:PUBLISH
X-WR-CALNAME:Blog des Japan-Zentrums
X-ORIGINAL-URL:https://www.blog.japan.uni-muenchen.de
X-WR-CALDESC:Veranstaltungen für Blog des Japan-Zentrums
REFRESH-INTERVAL;VALUE=DURATION:PT1H
X-Robots-Tag:noindex
X-PUBLISHED-TTL:PT1H
BEGIN:VTIMEZONE
TZID:Europe/Berlin
BEGIN:DAYLIGHT
TZOFFSETFROM:+0100
TZOFFSETTO:+0200
TZNAME:CEST
DTSTART:20220327T010000
END:DAYLIGHT
BEGIN:STANDARD
TZOFFSETFROM:+0200
TZOFFSETTO:+0100
TZNAME:CET
DTSTART:20221030T010000
END:STANDARD
BEGIN:DAYLIGHT
TZOFFSETFROM:+0100
TZOFFSETTO:+0200
TZNAME:CEST
DTSTART:20230326T010000
END:DAYLIGHT
BEGIN:STANDARD
TZOFFSETFROM:+0200
TZOFFSETTO:+0100
TZNAME:CET
DTSTART:20231029T010000
END:STANDARD
BEGIN:DAYLIGHT
TZOFFSETFROM:+0100
TZOFFSETTO:+0200
TZNAME:CEST
DTSTART:20240331T010000
END:DAYLIGHT
BEGIN:STANDARD
TZOFFSETFROM:+0200
TZOFFSETTO:+0100
TZNAME:CET
DTSTART:20241027T010000
END:STANDARD
END:VTIMEZONE
BEGIN:VEVENT
DTSTART;TZID=Europe/Berlin:20231215T180000
DTEND;TZID=Europe/Berlin:20231215T220000
DTSTAMP:20260425T235650
CREATED:20231204T162201Z
LAST-MODIFIED:20231204T162224Z
UID:1995-1702663200-1702677600@www.blog.japan.uni-muenchen.de
SUMMARY:Weihnachtsfeier der Fachschaft
DESCRIPTION:Wie es vielleicht schon manche gehört haben: am 15.12.23 veranstaltet die Fachschaft eine Weihnachts- + Karaoke Feier 🎄🎁. \nSingen werden wir alles worauf ihr Lust habt\, also nicht nur Weihnachtslieder oder so 🎤 Wir benutzen eine Art Singstar-Klon mit 4 Micros. Sollte es einen gewünschten Song im Programm nicht geben können wir aber natürlich auch einfach ein YouTube Video anmachen 📽️. \nEs wird warmen Glühwein\, Punsch\, Tee und verschiedenes Süßes zu kaufen geben. Wenn ihr kommt\, würden wir euch bitten\, vielleicht auch etwas Kleines mitzunehmen\, damit wir verschiedene Plätzchen usw. teilen können 💫 \nAls herzhaftes Angebot gibt es Sandwiches aus dem Sandwichmaker zu kaufen\, da könnt ihr einfach auswählen was ihr drauf haben wollt\, also ist für jeden was dabei (auch vegetarisch/vegan). \nWann: 15.12.23\, um 18:00 (bis 22:00\, dann macht leider das Gebäude zu) Wo: Oettingenstraße\, Raum U127. \nWir würden uns sehr freuen so viele wie möglich von euch zu sehen. \nEure Fachschaftsvertretung
URL:https://www.blog.japan.uni-muenchen.de/event/weihnachstfeier-der-fachschaft/
CATEGORIES:Allgemein,Studium
ATTACH;FMTTYPE=image/png:https://www.blog.japan.uni-muenchen.de/wp-content/uploads/2023/11/Logo_Fachschaft_Koi-1-e1701347980537.png
ORGANIZER;CN="Fachschaftsvertretung":MAILTO:japanologie@fs.lmu.de
END:VEVENT
END:VCALENDAR