BEGIN:VCALENDAR
VERSION:2.0
PRODID:-//Blog des Japan-Zentrums - ECPv6.15.20//NONSGML v1.0//EN
CALSCALE:GREGORIAN
METHOD:PUBLISH
X-WR-CALNAME:Blog des Japan-Zentrums
X-ORIGINAL-URL:https://www.blog.japan.uni-muenchen.de
X-WR-CALDESC:Veranstaltungen für Blog des Japan-Zentrums
REFRESH-INTERVAL;VALUE=DURATION:PT1H
X-Robots-Tag:noindex
X-PUBLISHED-TTL:PT1H
BEGIN:VTIMEZONE
TZID:Europe/Berlin
BEGIN:DAYLIGHT
TZOFFSETFROM:+0100
TZOFFSETTO:+0200
TZNAME:CEST
DTSTART:20230326T010000
END:DAYLIGHT
BEGIN:STANDARD
TZOFFSETFROM:+0200
TZOFFSETTO:+0100
TZNAME:CET
DTSTART:20231029T010000
END:STANDARD
BEGIN:DAYLIGHT
TZOFFSETFROM:+0100
TZOFFSETTO:+0200
TZNAME:CEST
DTSTART:20240331T010000
END:DAYLIGHT
BEGIN:STANDARD
TZOFFSETFROM:+0200
TZOFFSETTO:+0100
TZNAME:CET
DTSTART:20241027T010000
END:STANDARD
BEGIN:DAYLIGHT
TZOFFSETFROM:+0100
TZOFFSETTO:+0200
TZNAME:CEST
DTSTART:20250330T010000
END:DAYLIGHT
BEGIN:STANDARD
TZOFFSETFROM:+0200
TZOFFSETTO:+0100
TZNAME:CET
DTSTART:20251026T010000
END:STANDARD
END:VTIMEZONE
BEGIN:VEVENT
DTSTART;TZID=Europe/Berlin:20240123T121500
DTEND;TZID=Europe/Berlin:20240123T134500
DTSTAMP:20260426T061847
CREATED:20240111T115744Z
LAST-MODIFIED:20240111T115744Z
UID:2052-1706012100-1706017500@www.blog.japan.uni-muenchen.de
SUMMARY:Vortrag von Dr. des. Carolin Fleischer-Heininger: "Darstellungen von Behinderung in Werken der japanischen Gegenwartsliteratur: Projektvorstellung unter besonderer Berücksichtigung von Murata Sayakas Konbini ningen (2016)"
DESCRIPTION:Darstellungen von Behinderung sind der Literatur seit ihren Anfängen inhärent\, jedoch in der literaturwissenschaftlichen Japanforschung noch unzureichend untersucht. In meinem neuen Forschungsprojekt möchte ich zur Schließung dieser Lücke beitragen und dabei zugleich eine japanologische Perspektive zu den interdisziplinären literary disability studies anbieten. Besonders berücksichtigen werde ich das Diskursfeld der Erwerbsarbeit. Denn Behinderung als sozio-kulturelles Phänomen ist weitreichend und komplex verflochten mit Arbeit\, mit Formen ihrer Organisation sowie mit geltenden Vorstellungen und Normen. \nIn meinem Vortrag werde ich mein Projekt sowie als Fallstudie den im Jahr 2016 veröffentlichten Roman Konbini ningen コンビニ人間 (Die Ladenhüterin) von Murata Sayaka 村田沙耶香 (geb. 1979) vorstellen. Die Protagonistin dieses Werkes\, Furukura Keiko 古倉恵子\, weist Auffälligkeiten auf\, die sich – über ein vermeintlich normabweichendes Denken und Wahrnehmen hinausgehend – als Anzeichen von Autismus und somit einer psychischen Behinderung deuten lassen. Ausgehend von einem Überblick zur Autorin\, zum Roman sowie definitorischen und grundlegenden Überlegungen zu Autismus im Rahmen literaturwissenschaftlicher Untersuchungen\, analysiere ich\, angelehnt an die literatur- und kulturwissenschaftlichen disability studies\, im close reading drei Aspekte\, die für die Aushandlung von Autismus in Konbini ningen zentral sind. Dabei fokussiere ich mich auf die Betrachtung der Protagonistin als betroffenes Individuum sowie auf ihre Gedankenmuster und zwischenmenschlichen Interaktionen. Schließlich diskutiere ich\, wie Konbini ningen mit Blick auf zeitaktuelle Debatten sowie jüngste Entwicklungen psychische Behinderungen in Japan betreffend zu würdigen ist. \nCarolin Fleischer-Heininger ist seit Oktober 2023 wissenschaftliche Mitarbeiterin am Deutschen Institut für Japanforschung (DIJ) in Tokyo. Sie hat an der Ludwig-Maximilians-Universität München (LMU) ein Magisterstudium der Theaterwissenschaft sowie der Nebenfächer Neuere deutsche Literatur und Japanologie abgeschlossen und ebenda im Fach Japanologie zu literarischen\, dramatischen und filmischen Konstruktionen eines Nachkriegsjapan bei Terayama Shūji promoviert. Sie forscht zu Literatur und Kultur in Japan seit der Nachkriegszeit und interessiert sich dabei besonders für die Aushandlung von Differenz sowie für Modernisierungs- und Globalisierungstheorien. Am DIJ arbeitet sie zu Repräsentationen von Behinderung und Erwerbsarbeit in der japanischen Gegenwartsliteratur. \nDer Vortrag findet online statt und wird in Raum 133 (Japan-Zentrum\, Oettingenstr. 67) gestreamt werden: \nhttps://lmu-munich.zoom-x.de/j/92136629729?pwd=VThEVHh1aW5YWnJwSURJK1U5MmRtZz09 \nMeeting-ID: 921 3662 9729 \nKenncode: 596097
URL:https://www.blog.japan.uni-muenchen.de/event/vortrag-von-dr-des-carolin-fleischer-heininger-darstellungen-von-behinderung-in-werken-der-japanischen-gegenwartsliteratur-projektvorstellung-unter-besonderer-beruecksichtigung-von-murata-sayaka/
LOCATION:Zoom
CATEGORIES:Allgemein,Vortrag
ATTACH;FMTTYPE=image/jpeg:https://www.blog.japan.uni-muenchen.de/wp-content/uploads/2022/11/vortrag_icon-e1667471016263.jpg
END:VEVENT
END:VCALENDAR