BEGIN:VCALENDAR
VERSION:2.0
PRODID:-//Blog des Japan-Zentrums - ECPv6.15.20//NONSGML v1.0//EN
CALSCALE:GREGORIAN
METHOD:PUBLISH
X-WR-CALNAME:Blog des Japan-Zentrums
X-ORIGINAL-URL:https://www.blog.japan.uni-muenchen.de
X-WR-CALDESC:Veranstaltungen für Blog des Japan-Zentrums
REFRESH-INTERVAL;VALUE=DURATION:PT1H
X-Robots-Tag:noindex
X-PUBLISHED-TTL:PT1H
BEGIN:VTIMEZONE
TZID:Europe/Berlin
BEGIN:DAYLIGHT
TZOFFSETFROM:+0100
TZOFFSETTO:+0200
TZNAME:CEST
DTSTART:20230326T010000
END:DAYLIGHT
BEGIN:STANDARD
TZOFFSETFROM:+0200
TZOFFSETTO:+0100
TZNAME:CET
DTSTART:20231029T010000
END:STANDARD
BEGIN:DAYLIGHT
TZOFFSETFROM:+0100
TZOFFSETTO:+0200
TZNAME:CEST
DTSTART:20240331T010000
END:DAYLIGHT
BEGIN:STANDARD
TZOFFSETFROM:+0200
TZOFFSETTO:+0100
TZNAME:CET
DTSTART:20241027T010000
END:STANDARD
BEGIN:DAYLIGHT
TZOFFSETFROM:+0100
TZOFFSETTO:+0200
TZNAME:CEST
DTSTART:20250330T010000
END:DAYLIGHT
BEGIN:STANDARD
TZOFFSETFROM:+0200
TZOFFSETTO:+0100
TZNAME:CET
DTSTART:20251026T010000
END:STANDARD
END:VTIMEZONE
BEGIN:VEVENT
DTSTART;TZID=Europe/Berlin:20240612T123000
DTEND;TZID=Europe/Berlin:20240612T140000
DTSTAMP:20260426T055511
CREATED:20240522T102048Z
LAST-MODIFIED:20240603T083612Z
UID:2278-1718195400-1718200800@www.blog.japan.uni-muenchen.de
SUMMARY:Vortrag von Prof. Dr. Gabriele Vogt: "Reform Initiatives in Health-Care Migration to Japan: A Discussion of Their Political Dimensions"
DESCRIPTION:For several decades now\, the health care sector in Japan has been experiencing a severe labor shortage. The gap between a growing demand for health care services and a shrinking pool of domestic workers continues to widen. The introduction of a migration avenue for international health workers to Japan in the mid-2000s is generally understood to be the result of the ever-mounting strains\, which the rapid population aging put on the labor market. As this was the first explicit opening of the domestic labor market to a workforce that so far has not been categorized as “skilled workers”\, it is fair to conclude that this reform constitutes a paradigm shift in Japan’s migration policy. \nIn this presentation\, I will sketch out Japan’s demographic development\, and its implications on the health care sector in more depth. I will focus on health workers in elderly care\, as they are a group that is particularly high in demand on the Japanese labor market. Subsequently\, I will introduce the original migration avenue for health workers\, which opened in 2008\, and\, despite the several revisions it has seen ever since\, fails to draw a sufficient number of international health workers to Japan. Consequently\, over the past years\, migration flows of health workers to Japan have diversified. These more recent migration avenues include initiatives by business actors\, such as utilizing the system of intracompany transfer and also educational institutions recruiting international students. In addition\, policy reforms\, such as opening the international trainee system to health workers\, and the introduction of a specified skilled workers program contributed to the diversification of migration avenues to Japan. I will conclude with a contextualization and evaluation of the various migration avenues that are currently available to international health workers aiming for Japan as their destination. \nGabriele Vogt holds the Chair in Japanese Studies and serves as Director to the Department of Asian Studies at Ludwig-Maximilians-Universität (LMU) Munich. Her research covers the areas of political economy in the context of demographic transition and international labor migration\, as well as local politics and social movements. She has published widely on Japan’s demographic change ever since serving as a co-editor (with Florian Coulmas\, Harald Conrad and Annette Schad-Seifert) to the volume The Demographic Challenge: A Handbook about Japan (Brill\, 2008). She is the author of Population Aging and International Health-Caregiver Migration to Japan (Springer\, 2018). Some recent journal publications include: “The Aging Democracy: Demographic Effects\, Political Legitimacy\, and the Quest for Generational Pluralism.” In: Perspectives on Politics (2023\, with Yosuke Buchmeier)\, https://doi.org/10.1017/S1537592723000981 (open access); “Sanitizing the national body: COVID-19 and the revival of Japan’s ‘Closed Country’ strategy.” In: Asian and Pacific Migration Journal (2022\, with Sian Qin)\, https://doi.org/10.1177/01171968221125482 (open access); “Robotic devices and ICT in long-term care in Japan: Their potential and limitations from a workplace perspective.” In: Contemporary Japan (2021\, with Anne-Sophie L. König)\, https://doi.org/10.1080/18692729.2021.2015846 (open access). \nThis presentation is based on: Vogt\, Gabriele and Sian Qin (forthcoming): International health workers. In: Takahashi\, Shin and Yasuko Hassall Kobayashi (eds.): The Handbook of Global Migration and Japan. London: Sage. \nLocation: LMU Japan-Center\, Oettingenstraße 67\, Room L155
URL:https://www.blog.japan.uni-muenchen.de/event/vortrag-von-prof-dr-gabriele-vogt-reform-initiatives-in-health-care-migration-to-japan-a-discussion-of-their-political-dimensions/
LOCATION:https://www.lmu.de/raumfinder/#/building/bw7070/map?room=707801155_\, Oettingenstr. 67
CATEGORIES:Allgemein,Vortrag
END:VEVENT
END:VCALENDAR