BEGIN:VCALENDAR
VERSION:2.0
PRODID:-//Blog des Japan-Zentrums - ECPv6.15.20//NONSGML v1.0//EN
CALSCALE:GREGORIAN
METHOD:PUBLISH
X-WR-CALNAME:Blog des Japan-Zentrums
X-ORIGINAL-URL:https://www.blog.japan.uni-muenchen.de
X-WR-CALDESC:Veranstaltungen für Blog des Japan-Zentrums
REFRESH-INTERVAL;VALUE=DURATION:PT1H
X-Robots-Tag:noindex
X-PUBLISHED-TTL:PT1H
BEGIN:VTIMEZONE
TZID:Europe/Berlin
BEGIN:DAYLIGHT
TZOFFSETFROM:+0100
TZOFFSETTO:+0200
TZNAME:CEST
DTSTART:20230326T010000
END:DAYLIGHT
BEGIN:STANDARD
TZOFFSETFROM:+0200
TZOFFSETTO:+0100
TZNAME:CET
DTSTART:20231029T010000
END:STANDARD
BEGIN:DAYLIGHT
TZOFFSETFROM:+0100
TZOFFSETTO:+0200
TZNAME:CEST
DTSTART:20240331T010000
END:DAYLIGHT
BEGIN:STANDARD
TZOFFSETFROM:+0200
TZOFFSETTO:+0100
TZNAME:CET
DTSTART:20241027T010000
END:STANDARD
BEGIN:DAYLIGHT
TZOFFSETFROM:+0100
TZOFFSETTO:+0200
TZNAME:CEST
DTSTART:20250330T010000
END:DAYLIGHT
BEGIN:STANDARD
TZOFFSETFROM:+0200
TZOFFSETTO:+0100
TZNAME:CET
DTSTART:20251026T010000
END:STANDARD
END:VTIMEZONE
BEGIN:VEVENT
DTSTART;TZID=Europe/Berlin:20240620T181500
DTEND;TZID=Europe/Berlin:20240620T194500
DTSTAMP:20260426T053822
CREATED:20240605T103231Z
LAST-MODIFIED:20240605T103231Z
UID:2339-1718907300-1718912700@www.blog.japan.uni-muenchen.de
SUMMARY:Vortrag von Prof. (i.R.) Dr. Ilse Lenz: "Die neue Frauenbewegung in Japan und Deutschland im Vergleich"
DESCRIPTION:Wie haben die neuen Frauenbewegungen in Japan und in Deutschland das Denken über Geschlecht und die Gesellschaft verändert? Oft wird Feminismus weiterhin eurozentrisch mit dem „Westen“ gleichgesetzt und Ostasien weithin ausgeblendet. Gerade der Vergleich mit Japan ermöglicht es jedoch\, verschiedene feministische Wege in den kapitalistischen Zentren wahrzunehmen. \nIn Japan wie Deutschland forderten die Frauenbewegungen radikale Selbstbestimmung im Denken und Handeln\, eine grundlegende Veränderung der neopatriarchalen Strukturen und Gleichheit in intersektionaler Sicht. Dennoch unterschieden sie sich stark. Ich will diese Unterschiede und Gemeinsamkeiten herausarbeiten\, indem ich auf ihr Denken und ihre Praktiken zu den folgenden Fragen eingehe: Geschlecht\, Intersektionalität\, Lesbianismus und die postkoloniale transnationale Vernetzung mit ostasiatischen Frauenbewegungen in Japan. Ich beende den Vortrag damit\, die Veränderungen und die neuen Herausforderungen an den Feminismus heute zu umreißen. \nProf. (i.R.) Dr. Ilse Lenz studierte in den USA\, Japan und an der LMU München; sie promovierte an der FU Berlin zur Frauenarbeit in der japanischen Industrialisierung aus entwicklungssoziologischer Sicht. In ihrer Habilitation in Münster 1989 untersuchte sie das Geschlechterverhältnis auf dem japanischen Arbeitsmarkt und die Einflüsse der Computerisierung (beide Forschungen auf Grundlage von Expert:innen-Interviews und Archivarbeit auf Japanisch). Von 1992 bis 2014 war sie Professorin für Soziologie (Frauen- und Sozialstrukturforschung) an der Sozialwissenschaftlichen Fakultät und kooptiert an der Fakultät für Ostasienwissenschaften der Ruhr-Universität Bochum. \nDie Kerninhalte des Vortrags spiegeln sich insbesondere in diesen Bücher wider: \nMichiko Mae und Ilse Lenz (2023): Frauenbewegung in Japan. Quellen und Analysen. Wiesbaden: VS Verlag für Sozialwissenschaften. \nIlse Lenz (Hrsg.\, 2008): Die Neue Frauenbewegung in Deutschland. Abschied vom kleinen Unterschied. Eine Quellensammlung. Wiesbaden: VS Verlag für Sozialwissenschaften. \nDer Vortrag findet in Kooperation mit dem Lehrstuhl Prof. Dr. Paula-Irene Villa Braslavsky\, LMU München\, Soziologie in Präsenz statt. \nOrt: LMU Hauptgebäude\, Geschwister-Scholl-Platz 1\, 80539 München\, Raum A125
URL:https://www.blog.japan.uni-muenchen.de/event/vortrag-von-prof-i-r-dr-ilse-lenz-die-neue-frauenbewegung-in-japan-und-deutschland-im-vergleich/
LOCATION:https://www.lmu.de/raumfinder/#/building/bw0000/map?room=000001215_
CATEGORIES:Allgemein,Forschungskolloquium
END:VEVENT
END:VCALENDAR