BEGIN:VCALENDAR
VERSION:2.0
PRODID:-//Blog des Japan-Zentrums - ECPv6.15.20//NONSGML v1.0//EN
CALSCALE:GREGORIAN
METHOD:PUBLISH
X-WR-CALNAME:Blog des Japan-Zentrums
X-ORIGINAL-URL:https://www.blog.japan.uni-muenchen.de
X-WR-CALDESC:Veranstaltungen für Blog des Japan-Zentrums
REFRESH-INTERVAL;VALUE=DURATION:PT1H
X-Robots-Tag:noindex
X-PUBLISHED-TTL:PT1H
BEGIN:VTIMEZONE
TZID:Europe/Berlin
BEGIN:DAYLIGHT
TZOFFSETFROM:+0100
TZOFFSETTO:+0200
TZNAME:CEST
DTSTART:20230326T010000
END:DAYLIGHT
BEGIN:STANDARD
TZOFFSETFROM:+0200
TZOFFSETTO:+0100
TZNAME:CET
DTSTART:20231029T010000
END:STANDARD
BEGIN:DAYLIGHT
TZOFFSETFROM:+0100
TZOFFSETTO:+0200
TZNAME:CEST
DTSTART:20240331T010000
END:DAYLIGHT
BEGIN:STANDARD
TZOFFSETFROM:+0200
TZOFFSETTO:+0100
TZNAME:CET
DTSTART:20241027T010000
END:STANDARD
BEGIN:DAYLIGHT
TZOFFSETFROM:+0100
TZOFFSETTO:+0200
TZNAME:CEST
DTSTART:20250330T010000
END:DAYLIGHT
BEGIN:STANDARD
TZOFFSETFROM:+0200
TZOFFSETTO:+0100
TZNAME:CET
DTSTART:20251026T010000
END:STANDARD
END:VTIMEZONE
BEGIN:VEVENT
DTSTART;TZID=Europe/Berlin:20241001T140000
DTEND;TZID=Europe/Berlin:20241001T163000
DTSTAMP:20260426T061846
CREATED:20240923T095608Z
LAST-MODIFIED:20240923T124939Z
UID:2515-1727791200-1727800200@www.blog.japan.uni-muenchen.de
SUMMARY:Einführungsveranstaltung BA Japanologie zum Studienbeginn
DESCRIPTION:Sie möchten Japanologie im Bachelorstudiengang an der LMU studieren? Für StudienanfängerInnen des BA Japanologie wird es eine Einführung geben\, bitte nehmen Sie daran teil! \nTermin: \n\nDienstag\, 1. Oktober 2024\, ab 14.00 Uhr\, in Raum B U101 in der Oettingenstr. 67 (wo auch das Japan-Zentrum zu finden ist) \nDie Einschreibung erfolgt für deutsche Staatsbürger und Bildungsinländer vom 5. August bis 19. September 2024 postalisch bei der Studentenkanzlei. \nHier finden Sie wichtige grundlegende Hinweise zur Einschreibung und zum Studienbeginn an der LMU. \nDie Lehre in der Japanologie beginnt am 15. Oktober 2024.
URL:https://www.blog.japan.uni-muenchen.de/event/einfuehrungsveranstaltung-ba-japanologie-zum-studienbeginn/
LOCATION:https://www.lmu.de/raumfinder/#/building/bw7070/map?room=7080-1101_
CATEGORIES:Allgemein,Infoveranstaltung,Studium
END:VEVENT
END:VCALENDAR