BEGIN:VCALENDAR
VERSION:2.0
PRODID:-//Blog des Japan-Zentrums - ECPv6.15.20//NONSGML v1.0//EN
CALSCALE:GREGORIAN
METHOD:PUBLISH
X-WR-CALNAME:Blog des Japan-Zentrums
X-ORIGINAL-URL:https://www.blog.japan.uni-muenchen.de
X-WR-CALDESC:Veranstaltungen für Blog des Japan-Zentrums
REFRESH-INTERVAL;VALUE=DURATION:PT1H
X-Robots-Tag:noindex
X-PUBLISHED-TTL:PT1H
BEGIN:VTIMEZONE
TZID:Europe/Berlin
BEGIN:DAYLIGHT
TZOFFSETFROM:+0100
TZOFFSETTO:+0200
TZNAME:CEST
DTSTART:20240331T010000
END:DAYLIGHT
BEGIN:STANDARD
TZOFFSETFROM:+0200
TZOFFSETTO:+0100
TZNAME:CET
DTSTART:20241027T010000
END:STANDARD
BEGIN:DAYLIGHT
TZOFFSETFROM:+0100
TZOFFSETTO:+0200
TZNAME:CEST
DTSTART:20250330T010000
END:DAYLIGHT
BEGIN:STANDARD
TZOFFSETFROM:+0200
TZOFFSETTO:+0100
TZNAME:CET
DTSTART:20251026T010000
END:STANDARD
BEGIN:DAYLIGHT
TZOFFSETFROM:+0100
TZOFFSETTO:+0200
TZNAME:CEST
DTSTART:20260329T010000
END:DAYLIGHT
BEGIN:STANDARD
TZOFFSETFROM:+0200
TZOFFSETTO:+0100
TZNAME:CET
DTSTART:20261025T010000
END:STANDARD
END:VTIMEZONE
BEGIN:VEVENT
DTSTART;TZID=Europe/Berlin:20250129T100000
DTEND;TZID=Europe/Berlin:20250129T120000
DTSTAMP:20260426T042028
CREATED:20250122T134049Z
LAST-MODIFIED:20250123T100655Z
UID:2672-1738144800-1738152000@www.blog.japan.uni-muenchen.de
SUMMARY:Vortrag von Dr. des. Carolin Fleischer-Heininger (DIJ\, Tokyo)
DESCRIPTION:Carolin Fleischer-Heininger (Deutsches Institut für Japanstudien Tokyo) \nBehinderungen und digitale Zukunftsentwürfe: Theoretische Grundlagen\, gesellschaftliche Debatten und literarische Aushandlungen \nOrt: Japan-Zentrum\, Institute am Englischen Garten\, Oettingenstr. 67 \nRaum: 067 \nZeit: Mittwoch\, 29.01.2025\, 10–12 Uhr \nIn Entwürfen möglicher Zukünfte nehmen (noch) nicht realisierte Technologien zumeist eine zentrale Rolle ein. Sie dienen nicht nur der Konstruktion utopischer wie dystopischer Welten\, sondern fungieren zugleich als Dispositiv zur Reflexion über die pragmatische Wirklichkeit und das Mensch-Sein. Als Mittel zur Optimierung oder Korrektur regen sie dazu an\, normative Vorstellungen und gesellschaftliche Strukturen kritisch zu hinterfragen. \nBehinderungen sind eine existierende Realität menschlicher Vielfalt und entsprechend der Literatur seit jeher inhärent – nicht nur in Werken der Science-Fiction-Literatur oder in solchen\, die sich charakteristischer Elemente dieses Genres bedienen\, wie dem Topos der Nivellierung behinderungsbedingter Differenzen durch neue Technologien. \nDie rasant voranschreitende Digitalisierung sowie die damit einhergehenden Hoffnungen und Ängste befeuern neue Debatten über die Möglichkeiten\, Grenzen und insbesondere die Gestaltung sich entwickelnder Technologien. Diese Diskussionen werfen zugleich grundlegende Fragen über das Mensch-Sein auf und erfordern Offenheit gegenüber unterschiedlichen demografischen Gruppen sowie Flexibilität für individuelle Bedarfe. \nIn meinem Vortrag werde ich aus der Perspektive der Disability Studies die Potenziale digitaler Technologien für Betroffene sowie die Bedeutung von Erfahrungswissen für die Entwicklung und Gestaltung neuer Technologien diskutieren\, am Beispiel von Behinderungen. Zunächst führe ich in die theoretischen Grundlagen zu Behinderungen ein und gebe einen knappen Überblick über Behinderungen in Japan und in der Literatur. Anschließend stelle ich ICHIKAWA Saōs Hanchibakku (2023) vor und analysiere\, wie der Roman den Einsatz digitaler Geräte in Bezug auf Barrierefreiheit\, Chancengleichheit und soziale Beziehungen sowie als Marker von Behinderung thematisiert. Auf Basis dieser Lektüre werde ich abschließend sieben Thesen zu KI und Behinderung formulieren. \nCarolin Fleischer-Heininger ist seit Oktober 2023 wissenschaftliche Mitarbeiterin am Deutschen Institut für Japanforschung (DIJ) in Tokyo. Sie hat an der Ludwig-Maximilians-Universität München (LMU) ein Magisterstudium der Theaterwissenschaft sowie der Nebenfächer Neuere deutsche Literatur und Japanologie abgeschlossen und ebenda im Fach Japanologie zu literarischen\, dramatischen und filmischen Konstruktionen eines Nachkriegsjapan bei Terayama Shūji promoviert. Sie forscht zu Literatur und Kultur in Japan seit der Nachkriegszeit und interessiert sich dabei besonders für die Aushandlung von Differenz sowie für Modernisierungs- und Globalisierungstheorien. Am DIJ arbeitet sie zu Repräsentationen von Behinderung und Erwerbsarbeit in der japanischen Gegenwartsliteratur.
URL:https://www.blog.japan.uni-muenchen.de/event/vortrag-von-dr-des-caroline-fleischer-heininger-dij-tokyo/
LOCATION:https://www.lmu.de/raumfinder/#/building/bw7070/map?room=707000067_
CATEGORIES:Allgemein,Vortrag
END:VEVENT
END:VCALENDAR