BEGIN:VCALENDAR
VERSION:2.0
PRODID:-//Blog des Japan-Zentrums - ECPv6.15.20//NONSGML v1.0//EN
CALSCALE:GREGORIAN
METHOD:PUBLISH
X-WR-CALNAME:Blog des Japan-Zentrums
X-ORIGINAL-URL:https://www.blog.japan.uni-muenchen.de
X-WR-CALDESC:Veranstaltungen für Blog des Japan-Zentrums
REFRESH-INTERVAL;VALUE=DURATION:PT1H
X-Robots-Tag:noindex
X-PUBLISHED-TTL:PT1H
BEGIN:VTIMEZONE
TZID:Europe/Berlin
BEGIN:DAYLIGHT
TZOFFSETFROM:+0100
TZOFFSETTO:+0200
TZNAME:CEST
DTSTART:20240331T010000
END:DAYLIGHT
BEGIN:STANDARD
TZOFFSETFROM:+0200
TZOFFSETTO:+0100
TZNAME:CET
DTSTART:20241027T010000
END:STANDARD
BEGIN:DAYLIGHT
TZOFFSETFROM:+0100
TZOFFSETTO:+0200
TZNAME:CEST
DTSTART:20250330T010000
END:DAYLIGHT
BEGIN:STANDARD
TZOFFSETFROM:+0200
TZOFFSETTO:+0100
TZNAME:CET
DTSTART:20251026T010000
END:STANDARD
BEGIN:DAYLIGHT
TZOFFSETFROM:+0100
TZOFFSETTO:+0200
TZNAME:CEST
DTSTART:20260329T010000
END:DAYLIGHT
BEGIN:STANDARD
TZOFFSETFROM:+0200
TZOFFSETTO:+0100
TZNAME:CET
DTSTART:20261025T010000
END:STANDARD
BEGIN:DAYLIGHT
TZOFFSETFROM:+0100
TZOFFSETTO:+0200
TZNAME:CEST
DTSTART:20270328T010000
END:DAYLIGHT
BEGIN:STANDARD
TZOFFSETFROM:+0200
TZOFFSETTO:+0100
TZNAME:CET
DTSTART:20271031T010000
END:STANDARD
END:VTIMEZONE
BEGIN:VEVENT
DTSTART;TZID=Europe/Berlin:20250704T093000
DTEND;TZID=Europe/Berlin:20260111T173000
DTSTAMP:20260426T062136
CREATED:20250623T091210Z
LAST-MODIFIED:20250702T081029Z
UID:2945-1751621400-1768152600@www.blog.japan.uni-muenchen.de
SUMMARY:Sonderausstellung »Vom Inferno zum Friedenssymbol. 80 Jahre Hiroshima und Nagasaki« 4.7.2025–11.1.2026 im Museum Fünf Kontinente
DESCRIPTION:2025 jähren sich die Atombombenabwürfe auf Hiroshima und Nagasaki zum 80. Mal. Während der Zweite Weltkrieg in Europa mit der Kapitulation Deutschlands bereits im Mai 1945 geendet hatte\, führten die Abwürfe im August 1945 das Ende des Kriegsgeschehens im Pazifik herbei. Die Detonationen zerstörten die beiden japanischen Städte fast vollständig und brachten abertausenden Menschen den Tod und unsägliches Leid. In der japanischen Gesellschaft hat das katastrophale Ereignis bis heute tiefe Spuren hinterlassen und mahnt darüber hinaus die Menschheit zum Frieden. \nAnlässlich des 80. Jahrestages der bis heute einzigen Abwürfe von Atombomben auf Städte realisiert das Museum Fünf Kontinente in München in Kooperation mit dem Japan-Zentrum der LMU eine durch das Friedensgedächtnismuseum Hiroshima und das Atombombenmuseum Nagasaki konzipierte Ausstellung\, um an deren Opfer zu erinnern und auch ein Zeichen gegen den Einsatz von Nuklearwaffen zu setzen. \nVom Inferno zum Friedenssymbol. 80 Jahre Hiroshima und Nagasaki. \n4.7.2025–11.1.2026 \nDie Ausstellung wird ergänzt durch ein Vortragsprogramm und ein Online-Gespräch (vor Ort) mit einer Zeitzeugin. Der Eintritt zu den Vorträgen ist frei. Der Eintritt zur Sonderausstellung ist im Eintritt für die Dauerausstellung inkludiert. \nDonnerstag\, 17. Juli 2025\, 18 Uhr\nHiroshima’s Transwar and the Architecture of Memory and Forgetting\nProf. Ran Zwigenberg\, Ph.D. (Penn State College of the Liberal Arts)\nDer Vortrag findet auf Englisch statt. \nDienstag\, 22. Juli 2025\, 18 Uhr\nNationale und globale Opfernarrative im japanischen Diskurs über Hiroshima und Nagasaki\nProf. Nobuhiro Yanagihara (Tokyo Woman’s Christian University) \nDonnerstag\, 24. Juli 2025\, 18 Uhr\nBilder aus Hiroshima. Die Tradierung von Erinnerungen der Opfer des Atombombenabwurfs durch Gemälde\nProf. i.R. Dr. Lothar Wigger (Technische Universität Dortmund) \nDonnerstag\, 31. Juli 2025\, 18 Uhr\nZur Relevanz von Hiroshima und Nagasaki für die Friedenserziehung\nProf. Dr. Takahiro Kondo (Waseda University) \nDienstag\, 7. Oktober 2025\, 18 Uhr\nZwei Nobelpreise und wie man Geschichte macht\nProf. em. Dr. Florian Coulmas (Universität Duisburg-Essen) \nDienstag\, 14. Oktober 2025\, 18 Uhr\nResurrecting Nagasaki: Religion\, Art\, and Memory after the Atomic Bombing\nChad R. Diehl\, Ph.D. (Independent Scholar)\nDer Vortrag findet auf Englisch statt. \nDonnerstag\, 23. Oktober 2025\, 18 Uhr\nHiroshima and Nagasaki: The Last Witnesses\nProf. M. G. Sheftall\, Ph.D. (Shizuoka University) \nMittwoch\, 12. November 2025\, 18 Uhr\nDie Atombombe und ihre Opfer. Erinnerung in den Museen in Nagasaki und Hiroshima\nDr. André Hertrich (Österreichische Akademie der Wissenschaften) \nMittwoch\, 26. November 2025\, 10 Uhr\nOnlinegespräch mit einer Zeitzeugin der Atombombe\nTeruko Yahata (Zeitzeugin) und Yōko Itami (Dolmetscherin)\nDas Gespräch findet auf Japanisch mit deutscher Übersetzung statt. \nDonnerstag\, 4. Dezember 2025\, 18 Uhr\nUnsichtbares sichtbar machen. „The Maruki Gallery For The Hiroshima Panels“ \nProf. Dr. i.R. Steffi Richter \nEine Kooperation von LMU Japan-Zentrum und Museum Fünf Kontinente. Weitere Informationen finden Sie auch auf der Seite des Museum Fünf Kontinente. \n     
URL:https://www.blog.japan.uni-muenchen.de/event/sonderausstellung-vom-inferno-zum-friedenssymbol-80-jahre-hiroshima-und-nagasaki-4-7-2025-11-1-2026-im-museum-fuenf-kontinente/
LOCATION:Museum Fünf Kontinente\, Maximilianstraße 42\, München\, 80538
CATEGORIES:Allgemein,Studium,Vortrag
ATTACH;FMTTYPE=image/jpeg:https://www.blog.japan.uni-muenchen.de/wp-content/uploads/2025/06/Kraniche-von-Andre-scaled.jpg
END:VEVENT
BEGIN:VEVENT
DTSTART;TZID=Europe/Berlin:20251007T140000
DTEND;TZID=Europe/Berlin:20251007T200000
DTSTAMP:20260426T062136
CREATED:20250818T115109Z
LAST-MODIFIED:20250820T080009Z
UID:3084-1759845600-1759867200@www.blog.japan.uni-muenchen.de
SUMMARY:🎉 "Ersti-Rallye" am Japan-Zentrum 🎉
DESCRIPTION:Herzlich willkommen an alle neuen Studierenden der Japanologie! \nUm euch den Start ins Studium zu erleichtern\, lädt die Fachschaft Japanologie herzlich zu einer „Ersti-Rallye“ ein: \n📅 Datum: 07. Oktober 2025⏰ Uhrzeit: Beginn 11:00 (Treffpunkt Haupteingang Seminargebäude am Englischen Garten\, Oettingenstr. 67)\, Rallye-Dauer bis ca. 14 Uhr\, danach Get-together in Raum 115 – open end📍 Ort: Oettingenstr. 67\, 80538 München\, Japan-Zentrum \nDie „Ersti-Rallye“ ist die perfekte Gelegenheit\, um: \n\neure Kommiliton:innen kennenzulernen\,\nerste Eindrücke von der Universität und den Räumlichkeiten zu sammeln\,\ndie Fachschaft und ihre Arbeit zu entdecken\,\nund natürlich gemeinsam Spaß zu haben! 🎊\n\nEine vorherige Anmeldung ist nicht erforderlich – kommt einfach vorbei und macht mit. \nWir freuen uns auf einen spannenden Nachmittag und darauf\, euch beim Start ins Studium zu begleiten. ✨ \nEure Fachschaft Japanologie
URL:https://www.blog.japan.uni-muenchen.de/event/%f0%9f%8e%89-ersti-rallye-am-japan-zentrum-%f0%9f%8e%89/
LOCATION:https://www.lmu.de/raumfinder/#/building/bw7070/map?room=707001115_\, Oettingenstraße 67\, München\, 80538\, Germany
CATEGORIES:Allgemein,Studienanfänger*innen
ATTACH;FMTTYPE=image/png:https://www.blog.japan.uni-muenchen.de/wp-content/uploads/2023/11/Logo_Fachschaft_Koi-1-e1701347980537.png
END:VEVENT
BEGIN:VEVENT
DTSTART;TZID=Europe/Berlin:20251007T180000
DTEND;TZID=Europe/Berlin:20251007T180000
DTSTAMP:20260426T062136
CREATED:20250627T123819Z
LAST-MODIFIED:20250702T081815Z
UID:2951-1759860000-1759860000@www.blog.japan.uni-muenchen.de
SUMMARY:Vortrag von Prof. Florian Coulmas: "Zwei Nobelpreise und wie man Geschichte macht"
DESCRIPTION:Der Vortrag findet im Rahmen der Sonderausstellung „Vom Inferno zum Friedenssymbol – 80 Jahre Hiroshima und Nagasaki“ im Museum Fünf  Kontinente (4. Juli 2025 bis 11. Januar 2026) statt. Es handelt sich um die Wanderausstellung der Friedensgedächtnismuseen in Hiroshima und Nagasaki.  \n„Zwei Nobel-Preise und wie man Geschichte macht“ \nProf. em. Florian Coulmas (Universität Duisburg-Essen) \n07.10.2025: 18:00 Uhr \nOrt: Museum Fünf Kontinente\, Maximilianstraße 42\, 80538 München  \nEintritt frei. Eine vorherige Anmeldung ist nicht erforderlich. \nZum achtzigsten Mal jährte sich dieses Jahr die nukleare Vernichtung Hiroshimas und Nagasakis. Es gibt noch immer überlebende Opfer\, aber die meisten Menschen sind nach dem Zweiten Weltkrieg geboren. Für sie\, zumal weit weg vom Ort des Geschehens in Europa\, sind die beiden Atombomben Geschichte\, etwas\, das sich in der fernen Vergangenheit zutrug. Aber was für eine Geschichte? Was wissen wir eigentlich von „Hiroshima“? Was wollen wir wissen und was sollen wir wissen? Darum geht es in diesem Vortrag. \nFlorian Coulmas ist Professor Emeritus für japanische Gesellschaft am IN-EAST Institut für Ostasienstudien der Universität Duisburg-Essen. Er schreibt (vor allem) Bücher. \nEine Kooperation von LMU Japan-Zentrum und Museum Fünf Kontinente. Weitere Informationen finden Sie auch auf der Seite des Museum Fünf Kontinente. \n \n 
URL:https://www.blog.japan.uni-muenchen.de/event/vortrag-von-prof-florian-coulmas-zwei-nobelpreise-und-wie-man-geschichte-macht/
LOCATION:Museum Fünf Kontinente\, Maximilianstraße 42\, München\, 80538
CATEGORIES:Allgemein,Vortrag
ATTACH;FMTTYPE=image/png:https://www.blog.japan.uni-muenchen.de/wp-content/uploads/2025/06/Coulmas.png
END:VEVENT
END:VCALENDAR