BEGIN:VCALENDAR
VERSION:2.0
PRODID:-//Blog des Japan-Zentrums - ECPv6.15.20//NONSGML v1.0//EN
CALSCALE:GREGORIAN
METHOD:PUBLISH
X-WR-CALNAME:Blog des Japan-Zentrums
X-ORIGINAL-URL:https://www.blog.japan.uni-muenchen.de
X-WR-CALDESC:Veranstaltungen für Blog des Japan-Zentrums
REFRESH-INTERVAL;VALUE=DURATION:PT1H
X-Robots-Tag:noindex
X-PUBLISHED-TTL:PT1H
BEGIN:VTIMEZONE
TZID:Europe/Berlin
BEGIN:DAYLIGHT
TZOFFSETFROM:+0100
TZOFFSETTO:+0200
TZNAME:CEST
DTSTART:20250330T010000
END:DAYLIGHT
BEGIN:STANDARD
TZOFFSETFROM:+0200
TZOFFSETTO:+0100
TZNAME:CET
DTSTART:20251026T010000
END:STANDARD
BEGIN:DAYLIGHT
TZOFFSETFROM:+0100
TZOFFSETTO:+0200
TZNAME:CEST
DTSTART:20260329T010000
END:DAYLIGHT
BEGIN:STANDARD
TZOFFSETFROM:+0200
TZOFFSETTO:+0100
TZNAME:CET
DTSTART:20261025T010000
END:STANDARD
BEGIN:DAYLIGHT
TZOFFSETFROM:+0100
TZOFFSETTO:+0200
TZNAME:CEST
DTSTART:20270328T010000
END:DAYLIGHT
BEGIN:STANDARD
TZOFFSETFROM:+0200
TZOFFSETTO:+0100
TZNAME:CET
DTSTART:20271031T010000
END:STANDARD
END:VTIMEZONE
BEGIN:VEVENT
DTSTART;TZID=Europe/Berlin:20260120T180000
DTEND;TZID=Europe/Berlin:20260120T190000
DTSTAMP:20260425T225024
CREATED:20251210T123348Z
LAST-MODIFIED:20251210T123348Z
UID:3257-1768932000-1768935600@www.blog.japan.uni-muenchen.de
SUMMARY:Infoveranstaltung für Erstsemester zur Prüfungsordnung
DESCRIPTION:Am Dienstag\, dem 20. Januar 2026 um 18 Uhr s.t. findet in Raum 151 in der Oettingenstraße die Einführung für Erstsemester zur Prüfungsordnung statt. \nAußerdem werden sich die Universitätsbibliothek und der Career Service der LMU vorstellen.
URL:https://www.blog.japan.uni-muenchen.de/event/infoveranstaltung-fuer-erstsemester-zur-pruefungsordnung/
LOCATION:Oettinenstraße 67\, Raum 151
CATEGORIES:Infoveranstaltung
ATTACH;FMTTYPE=image/jpeg:https://www.blog.japan.uni-muenchen.de/wp-content/uploads/2021/02/IMG_2490-scaled-e1665492972531.jpg
END:VEVENT
END:VCALENDAR