BEGIN:VCALENDAR
VERSION:2.0
PRODID:-//Blog des Japan-Zentrums - ECPv6.15.20//NONSGML v1.0//EN
CALSCALE:GREGORIAN
METHOD:PUBLISH
X-WR-CALNAME:Blog des Japan-Zentrums
X-ORIGINAL-URL:https://www.blog.japan.uni-muenchen.de
X-WR-CALDESC:Veranstaltungen für Blog des Japan-Zentrums
REFRESH-INTERVAL;VALUE=DURATION:PT1H
X-Robots-Tag:noindex
X-PUBLISHED-TTL:PT1H
BEGIN:VTIMEZONE
TZID:Europe/Berlin
BEGIN:DAYLIGHT
TZOFFSETFROM:+0100
TZOFFSETTO:+0200
TZNAME:CEST
DTSTART:20230326T010000
END:DAYLIGHT
BEGIN:STANDARD
TZOFFSETFROM:+0200
TZOFFSETTO:+0100
TZNAME:CET
DTSTART:20231029T010000
END:STANDARD
BEGIN:DAYLIGHT
TZOFFSETFROM:+0100
TZOFFSETTO:+0200
TZNAME:CEST
DTSTART:20240331T010000
END:DAYLIGHT
BEGIN:STANDARD
TZOFFSETFROM:+0200
TZOFFSETTO:+0100
TZNAME:CET
DTSTART:20241027T010000
END:STANDARD
BEGIN:DAYLIGHT
TZOFFSETFROM:+0100
TZOFFSETTO:+0200
TZNAME:CEST
DTSTART:20250330T010000
END:DAYLIGHT
BEGIN:STANDARD
TZOFFSETFROM:+0200
TZOFFSETTO:+0100
TZNAME:CET
DTSTART:20251026T010000
END:STANDARD
END:VTIMEZONE
BEGIN:VEVENT
DTSTART;TZID=Europe/Berlin:20240424T123000
DTEND;TZID=Europe/Berlin:20240424T140000
DTSTAMP:20260425T182256
CREATED:20240416T072554Z
LAST-MODIFIED:20240422T111035Z
UID:2209-1713961800-1713967200@www.blog.japan.uni-muenchen.de
SUMMARY:Vortrag von Jane Khanizadeh\, M.A.: "Sports and International Relations: The Soft Power of Major International Sporting Events"
DESCRIPTION:Major international sporting events serve as potent instruments of soft power\, profoundly impacting international relations. Japan\, renowned for its rich sports tradition and commitment to soft power\, emerges as a compelling focal point in this analysis. Through the lens of events like the Olympic Games\, FIFA World Cup\, and notably\, the 2019 Rugby World Cup (RWC)\, Japan’s strategic utilization of these platforms becomes apparent. These events provide unparalleled opportunities for Japan to showcase its cultural heritage\, technological prowess\, and organizational expertise on the global stage\, amplifying its soft power influence. Alongside the benefits\, these events also invite criticism. Concerns often arise regarding the financial burden on host countries\, displacement of local communities\, and environmental impacts of large-scale infrastructure projects. Due to the reach of such sporting events\, the negative outcome also is broadcasted to and discussed by a large audience on the worlds stage. \nThe event will take place in hybrid form \nLocation: LMU Japan-Center\, Oettingenstraße 67\, Room L155 \nParticipation in the lecture on the Zoom meeting (no registration required):\nhttps://lmu-munich.zoom-x.de/j/69660497675?pwd=SStSZ3ppa3lKMjd2dTFaN2xJYXZlZz09\nMeeting-ID: 696 6049 7675\, Kenncode: 117701
URL:https://www.blog.japan.uni-muenchen.de/event/vortrag-von-jane-khanizadeh-m-a-sports-and-international-relations-the-soft-power-of-major-international-sporting-events/
CATEGORIES:Allgemein,Vortrag
END:VEVENT
END:VCALENDAR